BEGIN:VCALENDAR
VERSION:2.0
PRODID:-//tandcschool.org//NONSGML kigkonsult.se iCalcreator 2.30.10//
CALSCALE:GREGORIAN
METHOD:PUBLISH
UID:d80a16a1-2faf-411a-a41d-46996b1c0859
X-WR-CALDESC:
X-WR-RELCALID:129214c2bbf7142c5396e0544b08d4b1
X-WR-TIMEZONE:America/Chicago
BEGIN:VTIMEZONE
TZID:America/Chicago
BEGIN:STANDARD
TZNAME:CST
DTSTART:20231105T020000
TZOFFSETFROM:-0500
TZOFFSETTO:-0600
RDATE:20241103T020000
END:STANDARD
BEGIN:DAYLIGHT
TZNAME:CDT
DTSTART:20230312T020000
TZOFFSETFROM:-0600
TZOFFSETTO:-0500
RDATE:20240310T020000
RDATE:20250309T020000
END:DAYLIGHT
END:VTIMEZONE
BEGIN:VEVENT
UID:38954680-f0a9-4e70-a74e-634bbe63bd5e
DTSTAMP:20260424T052952Z
DESCRIPTION:
DTSTART;TZID=America/Chicago:20240214T140000
DTEND;TZID=America/Chicago:20240214T150000
LOCATION:
SUMMARY:LS Valentine's Party
END:VEVENT
END:VCALENDAR
