BEGIN:VCALENDAR
VERSION:2.0
PRODID:-//tandcschool.org//NONSGML kigkonsult.se iCalcreator 2.30.10//
CALSCALE:GREGORIAN
METHOD:PUBLISH
UID:9d1e495c-52c0-4223-b5cc-691db7510efb
X-WR-CALDESC:
X-WR-RELCALID:ab0ce9ea6c6577a1a54af81572e6bc4c
X-WR-TIMEZONE:America/Chicago
BEGIN:VTIMEZONE
TZID:America/Chicago
BEGIN:STANDARD
TZNAME:CST
DTSTART:20231105T020000
TZOFFSETFROM:-0500
TZOFFSETTO:-0600
RDATE:20241103T020000
END:STANDARD
BEGIN:DAYLIGHT
TZNAME:CDT
DTSTART:20230312T020000
TZOFFSETFROM:-0600
TZOFFSETTO:-0500
RDATE:20240310T020000
RDATE:20250309T020000
END:DAYLIGHT
END:VTIMEZONE
BEGIN:VEVENT
UID:8d49371a-a75a-4bf2-a622-2749349acadb
DTSTAMP:20260424T053044Z
DESCRIPTION:
DTSTART;TZID=America/Chicago:20240214T153000
DTEND;TZID=America/Chicago:20240214T164500
LOCATION:
SUMMARY:Cooking Class B
END:VEVENT
END:VCALENDAR
