BEGIN:VCALENDAR
VERSION:2.0
PRODID:-//tandcschool.org//NONSGML kigkonsult.se iCalcreator 2.30.10//
CALSCALE:GREGORIAN
METHOD:PUBLISH
UID:1271dd6d-6e27-44d2-9727-8df81ebd26eb
X-WR-CALDESC:
X-WR-RELCALID:39558e0aae806c9dffa090dd6b1c85ac
X-WR-TIMEZONE:America/Chicago
BEGIN:VTIMEZONE
TZID:America/Chicago
BEGIN:STANDARD
TZNAME:CST
DTSTART:20231105T020000
TZOFFSETFROM:-0500
TZOFFSETTO:-0600
RDATE:20241103T020000
END:STANDARD
BEGIN:DAYLIGHT
TZNAME:CDT
DTSTART:20230312T020000
TZOFFSETFROM:-0600
TZOFFSETTO:-0500
RDATE:20240310T020000
RDATE:20250309T020000
END:DAYLIGHT
END:VTIMEZONE
BEGIN:VEVENT
UID:e49ffb99-2f43-4c41-a6ae-b5146f0eb35c
DTSTAMP:20260424T053729Z
DESCRIPTION:
DTSTART;TZID=America/Chicago:20240213T150000
DTEND;TZID=America/Chicago:20240213T154500
LOCATION:
SUMMARY:HS Lego Club
END:VEVENT
END:VCALENDAR
