BEGIN:VCALENDAR
VERSION:2.0
PRODID:-//tandcschool.org//NONSGML kigkonsult.se iCalcreator 2.30.10//
CALSCALE:GREGORIAN
METHOD:PUBLISH
UID:6d8edc1c-038e-40a8-ab07-0b73b021f60f
X-WR-CALDESC:
X-WR-RELCALID:cff5c9f78a0aff37e7d07a02e7f3f160
X-WR-TIMEZONE:America/Chicago
BEGIN:VTIMEZONE
TZID:America/Chicago
BEGIN:STANDARD
TZNAME:CST
DTSTART:20231105T020000
TZOFFSETFROM:-0500
TZOFFSETTO:-0600
RDATE:20241103T020000
END:STANDARD
BEGIN:DAYLIGHT
TZNAME:CDT
DTSTART:20230312T020000
TZOFFSETFROM:-0600
TZOFFSETTO:-0500
RDATE:20240310T020000
RDATE:20250309T020000
END:DAYLIGHT
END:VTIMEZONE
BEGIN:VEVENT
UID:27b76215-de24-49d9-9274-328511182f20
DTSTAMP:20260424T051021Z
DESCRIPTION:
DTSTART;TZID=America/Chicago:20240212T050000
DTEND;TZID=America/Chicago:20240215T050001
LOCATION:
SUMMARY:ACT Testing
END:VEVENT
END:VCALENDAR
