BEGIN:VCALENDAR
VERSION:2.0
PRODID:-//tandcschool.org//NONSGML kigkonsult.se iCalcreator 2.30.10//
CALSCALE:GREGORIAN
METHOD:PUBLISH
UID:30df4f5e-48d5-4084-a195-f4a058bbc170
X-WR-CALDESC:
X-WR-RELCALID:a3075c0e616345eb09aec443016b625c
X-WR-TIMEZONE:America/Chicago
BEGIN:VTIMEZONE
TZID:America/Chicago
BEGIN:STANDARD
TZNAME:CST
DTSTART:20231105T020000
TZOFFSETFROM:-0500
TZOFFSETTO:-0600
RDATE:20241103T020000
END:STANDARD
BEGIN:DAYLIGHT
TZNAME:CDT
DTSTART:20230312T020000
TZOFFSETFROM:-0600
TZOFFSETTO:-0500
RDATE:20240310T020000
RDATE:20250309T020000
END:DAYLIGHT
END:VTIMEZONE
BEGIN:VEVENT
UID:2a1a43cb-0260-4b71-9b02-7fa9340a39c2
DTSTAMP:20260424T053440Z
DESCRIPTION:
DTSTART;TZID=America/Chicago:20240212T150000
DTEND;TZID=America/Chicago:20240212T154500
LOCATION:
SUMMARY:Chess Club
END:VEVENT
END:VCALENDAR
