BEGIN:VCALENDAR
VERSION:2.0
PRODID:-//tandcschool.org//NONSGML kigkonsult.se iCalcreator 2.30.10//
CALSCALE:GREGORIAN
METHOD:PUBLISH
UID:88998752-b185-49a4-9f0e-1ba2bc997e1f
X-WR-CALDESC:
X-WR-RELCALID:7749cd4efbcda2aa29442e58989d65b8
X-WR-TIMEZONE:America/Chicago
BEGIN:VTIMEZONE
TZID:America/Chicago
BEGIN:STANDARD
TZNAME:CST
DTSTART:20231105T020000
TZOFFSETFROM:-0500
TZOFFSETTO:-0600
RDATE:20241103T020000
END:STANDARD
BEGIN:DAYLIGHT
TZNAME:CDT
DTSTART:20230312T020000
TZOFFSETFROM:-0600
TZOFFSETTO:-0500
RDATE:20240310T020000
RDATE:20250309T020000
END:DAYLIGHT
END:VTIMEZONE
BEGIN:VEVENT
UID:938fbdb8-49d2-481c-b1aa-94be66da0b6c
DTSTAMP:20260424T051206Z
DESCRIPTION:
DTSTART;TZID=America/Chicago:20240209T150000
DTEND;TZID=America/Chicago:20240209T154500
LOCATION:
SUMMARY:E-Gaming Club B
END:VEVENT
END:VCALENDAR
