BEGIN:VCALENDAR
VERSION:2.0
PRODID:-//tandcschool.org//NONSGML kigkonsult.se iCalcreator 2.30.10//
CALSCALE:GREGORIAN
METHOD:PUBLISH
UID:8448d4d1-c94a-4c6d-8b3f-3a0212eacab0
X-WR-CALDESC:
X-WR-RELCALID:816c5e9b881c7110ccb91bc39793da58
X-WR-TIMEZONE:America/Chicago
BEGIN:VTIMEZONE
TZID:America/Chicago
BEGIN:STANDARD
TZNAME:CST
DTSTART:20231105T020000
TZOFFSETFROM:-0500
TZOFFSETTO:-0600
RDATE:20241103T020000
END:STANDARD
BEGIN:DAYLIGHT
TZNAME:CDT
DTSTART:20230312T020000
TZOFFSETFROM:-0600
TZOFFSETTO:-0500
RDATE:20240310T020000
RDATE:20250309T020000
END:DAYLIGHT
END:VTIMEZONE
BEGIN:VEVENT
UID:c7f00be7-366a-460e-96e9-76eda298c392
DTSTAMP:20260424T053133Z
DESCRIPTION:
DTSTART;TZID=America/Chicago:20240208T151500
DTEND;TZID=America/Chicago:20240208T160000
LOCATION:
SUMMARY:Band
END:VEVENT
END:VCALENDAR
