BEGIN:VCALENDAR
VERSION:2.0
PRODID:-//tandcschool.org//NONSGML kigkonsult.se iCalcreator 2.30.10//
CALSCALE:GREGORIAN
METHOD:PUBLISH
UID:0d71ffc7-f85a-4d05-ac71-86d3b001b610
X-WR-CALDESC:
X-WR-RELCALID:16038b7df3feeaae7a224c91036e6ec7
X-WR-TIMEZONE:America/Chicago
BEGIN:VTIMEZONE
TZID:America/Chicago
BEGIN:STANDARD
TZNAME:CST
DTSTART:20231105T020000
TZOFFSETFROM:-0500
TZOFFSETTO:-0600
RDATE:20241103T020000
END:STANDARD
BEGIN:DAYLIGHT
TZNAME:CDT
DTSTART:20230312T020000
TZOFFSETFROM:-0600
TZOFFSETTO:-0500
RDATE:20240310T020000
RDATE:20250309T020000
END:DAYLIGHT
END:VTIMEZONE
BEGIN:VEVENT
UID:6e3ab7e5-d5d8-4c0d-b4d9-ec4bbb1c785d
DTSTAMP:20260424T052120Z
DESCRIPTION:
DTSTART;TZID=America/Chicago:20240207T152000
DTEND;TZID=America/Chicago:20240207T160000
LOCATION:
SUMMARY:Production Club-Wizard
END:VEVENT
END:VCALENDAR
