BEGIN:VCALENDAR
VERSION:2.0
PRODID:-//tandcschool.org//NONSGML kigkonsult.se iCalcreator 2.30.10//
CALSCALE:GREGORIAN
METHOD:PUBLISH
UID:13867b40-aeef-453b-838c-0e25fa8fccae
X-WR-CALDESC:
X-WR-RELCALID:7245836b70597541986e8fb8c7148924
X-WR-TIMEZONE:America/Chicago
BEGIN:VTIMEZONE
TZID:America/Chicago
BEGIN:STANDARD
TZNAME:CST
DTSTART:20231105T020000
TZOFFSETFROM:-0500
TZOFFSETTO:-0600
RDATE:20241103T020000
END:STANDARD
BEGIN:DAYLIGHT
TZNAME:CDT
DTSTART:20230312T020000
TZOFFSETFROM:-0600
TZOFFSETTO:-0500
RDATE:20240310T020000
RDATE:20250309T020000
END:DAYLIGHT
END:VTIMEZONE
BEGIN:VEVENT
UID:48c2d5e7-dc80-45cb-974d-a6226edc0e82
DTSTAMP:20260424T053054Z
DESCRIPTION:
DTSTART;TZID=America/Chicago:20240207T150000
DTEND;TZID=America/Chicago:20240207T154500
LOCATION:
SUMMARY:MS Art Club
END:VEVENT
END:VCALENDAR
