BEGIN:VCALENDAR
VERSION:2.0
PRODID:-//tandcschool.org//NONSGML kigkonsult.se iCalcreator 2.30.10//
CALSCALE:GREGORIAN
METHOD:PUBLISH
UID:e2232a10-9f3f-4436-9818-125f30341366
X-WR-CALDESC:
X-WR-RELCALID:d8245207e38b7f4707e9db25af3a6fec
X-WR-TIMEZONE:America/Chicago
BEGIN:VTIMEZONE
TZID:America/Chicago
BEGIN:STANDARD
TZNAME:CST
DTSTART:20231105T020000
TZOFFSETFROM:-0500
TZOFFSETTO:-0600
RDATE:20241103T020000
END:STANDARD
BEGIN:DAYLIGHT
TZNAME:CDT
DTSTART:20230312T020000
TZOFFSETFROM:-0600
TZOFFSETTO:-0500
RDATE:20240310T020000
RDATE:20250309T020000
END:DAYLIGHT
END:VTIMEZONE
BEGIN:VEVENT
UID:56aae4d2-7497-4544-9bc8-061d9d9ee573
DTSTAMP:20260424T052121Z
DESCRIPTION:
DTSTART;TZID=America/Chicago:20240207T153000
DTEND;TZID=America/Chicago:20240207T164500
LOCATION:
SUMMARY:Cooking Class B
END:VEVENT
END:VCALENDAR
