BEGIN:VCALENDAR
VERSION:2.0
PRODID:-//tandcschool.org//NONSGML kigkonsult.se iCalcreator 2.30.10//
CALSCALE:GREGORIAN
METHOD:PUBLISH
UID:f1da928d-b686-48a9-b111-31553ba16596
X-WR-CALDESC:
X-WR-RELCALID:952c12af4b8f3cdb98a2e1fb2da6c5fc
X-WR-TIMEZONE:America/Chicago
BEGIN:VTIMEZONE
TZID:America/Chicago
BEGIN:STANDARD
TZNAME:CST
DTSTART:20231105T020000
TZOFFSETFROM:-0500
TZOFFSETTO:-0600
RDATE:20241103T020000
END:STANDARD
BEGIN:DAYLIGHT
TZNAME:CDT
DTSTART:20230312T020000
TZOFFSETFROM:-0600
TZOFFSETTO:-0500
RDATE:20240310T020000
RDATE:20250309T020000
END:DAYLIGHT
END:VTIMEZONE
BEGIN:VEVENT
UID:63447271-9dc0-4661-baed-c2eacb806d9c
DTSTAMP:20260424T052016Z
DESCRIPTION:
DTSTART;TZID=America/Chicago:20240207T153000
DTEND;TZID=America/Chicago:20240207T170000
LOCATION:
SUMMARY:Bowling
END:VEVENT
END:VCALENDAR
