BEGIN:VCALENDAR
VERSION:2.0
PRODID:-//tandcschool.org//NONSGML kigkonsult.se iCalcreator 2.30.10//
CALSCALE:GREGORIAN
METHOD:PUBLISH
UID:6278dfe8-a84e-4082-a0ac-823076313693
X-WR-CALDESC:
X-WR-RELCALID:1428950427586c2f8bec7089bdf6a257
X-WR-TIMEZONE:America/Chicago
BEGIN:VTIMEZONE
TZID:America/Chicago
BEGIN:STANDARD
TZNAME:CST
DTSTART:20231105T020000
TZOFFSETFROM:-0500
TZOFFSETTO:-0600
RDATE:20241103T020000
END:STANDARD
BEGIN:DAYLIGHT
TZNAME:CDT
DTSTART:20230312T020000
TZOFFSETFROM:-0600
TZOFFSETTO:-0500
RDATE:20240310T020000
RDATE:20250309T020000
END:DAYLIGHT
END:VTIMEZONE
BEGIN:VEVENT
UID:04684246-2dc4-47fc-b4a0-9d4a9ae38eac
DTSTAMP:20260424T053243Z
DESCRIPTION:
DTSTART;TZID=America/Chicago:20240206T180000
DTEND;TZID=America/Chicago:20240206T190000
LOCATION:
SUMMARY:Cooking Class Parent Zoom Meeting
END:VEVENT
END:VCALENDAR
