BEGIN:VCALENDAR
VERSION:2.0
PRODID:-//tandcschool.org//NONSGML kigkonsult.se iCalcreator 2.30.10//
CALSCALE:GREGORIAN
METHOD:PUBLISH
UID:6b725fbb-f02c-4219-8b53-7a3bae575cbf
X-WR-CALDESC:
X-WR-RELCALID:0420d73779098e44c3c946b931177b1e
X-WR-TIMEZONE:America/Chicago
BEGIN:VTIMEZONE
TZID:America/Chicago
BEGIN:STANDARD
TZNAME:CST
DTSTART:20231105T020000
TZOFFSETFROM:-0500
TZOFFSETTO:-0600
RDATE:20241103T020000
END:STANDARD
BEGIN:DAYLIGHT
TZNAME:CDT
DTSTART:20230312T020000
TZOFFSETFROM:-0600
TZOFFSETTO:-0500
RDATE:20240310T020000
RDATE:20250309T020000
END:DAYLIGHT
END:VTIMEZONE
BEGIN:VEVENT
UID:b9e885c6-4bf5-4cad-a122-e52e35270344
DTSTAMP:20260424T053459Z
DESCRIPTION:
DTSTART;TZID=America/Chicago:20240206T150000
DTEND;TZID=America/Chicago:20240206T154500
LOCATION:
SUMMARY:MS Lego Club
END:VEVENT
END:VCALENDAR
