BEGIN:VCALENDAR
VERSION:2.0
PRODID:-//tandcschool.org//NONSGML kigkonsult.se iCalcreator 2.30.10//
CALSCALE:GREGORIAN
METHOD:PUBLISH
UID:8e10b4ad-9891-405e-bcb9-2ca98c0443d5
X-WR-CALDESC:
X-WR-RELCALID:565e0c65364b3c1c53884a3b982b3a62
X-WR-TIMEZONE:America/Chicago
BEGIN:VTIMEZONE
TZID:America/Chicago
BEGIN:STANDARD
TZNAME:CST
DTSTART:20231105T020000
TZOFFSETFROM:-0500
TZOFFSETTO:-0600
RDATE:20241103T020000
END:STANDARD
BEGIN:DAYLIGHT
TZNAME:CDT
DTSTART:20230312T020000
TZOFFSETFROM:-0600
TZOFFSETTO:-0500
RDATE:20240310T020000
RDATE:20250309T020000
END:DAYLIGHT
END:VTIMEZONE
BEGIN:VEVENT
UID:1a3febd8-f9a4-4481-8527-2dff5f342fe3
DTSTAMP:20260424T053350Z
DESCRIPTION:
DTSTART;TZID=America/Chicago:20240205T152000
DTEND;TZID=America/Chicago:20240205T163000
LOCATION:
SUMMARY:Oz Cast Rehearsal
END:VEVENT
END:VCALENDAR
