BEGIN:VCALENDAR
VERSION:2.0
PRODID:-//tandcschool.org//NONSGML kigkonsult.se iCalcreator 2.30.10//
CALSCALE:GREGORIAN
METHOD:PUBLISH
UID:7914e3a5-57da-4377-80fb-8a6bcd646456
X-WR-CALDESC:
X-WR-RELCALID:7f03f6590e5082d8c7f63d5645989b61
X-WR-TIMEZONE:America/Chicago
BEGIN:VTIMEZONE
TZID:America/Chicago
BEGIN:STANDARD
TZNAME:CST
DTSTART:20231105T020000
TZOFFSETFROM:-0500
TZOFFSETTO:-0600
RDATE:20241103T020000
END:STANDARD
BEGIN:DAYLIGHT
TZNAME:CDT
DTSTART:20230312T020000
TZOFFSETFROM:-0600
TZOFFSETTO:-0500
RDATE:20240310T020000
RDATE:20250309T020000
END:DAYLIGHT
END:VTIMEZONE
BEGIN:VEVENT
UID:34d71675-d748-4b26-a55a-3d91360b2457
DTSTAMP:20260424T053739Z
DESCRIPTION:
DTSTART;TZID=America/Chicago:20240205T152000
DTEND;TZID=America/Chicago:20240205T160000
LOCATION:
SUMMARY:LS Art Club
END:VEVENT
END:VCALENDAR
