BEGIN:VCALENDAR
VERSION:2.0
PRODID:-//tandcschool.org//NONSGML kigkonsult.se iCalcreator 2.30.10//
CALSCALE:GREGORIAN
METHOD:PUBLISH
UID:f9bd3118-051a-4c7d-a687-e2cbd46a5805
X-WR-CALDESC:
X-WR-RELCALID:542f5e72d0c3521911a217d89b9fffc0
X-WR-TIMEZONE:America/Chicago
BEGIN:VTIMEZONE
TZID:America/Chicago
BEGIN:STANDARD
TZNAME:CST
DTSTART:20231105T020000
TZOFFSETFROM:-0500
TZOFFSETTO:-0600
RDATE:20241103T020000
END:STANDARD
BEGIN:DAYLIGHT
TZNAME:CDT
DTSTART:20230312T020000
TZOFFSETFROM:-0600
TZOFFSETTO:-0500
RDATE:20240310T020000
RDATE:20250309T020000
END:DAYLIGHT
END:VTIMEZONE
BEGIN:VEVENT
UID:8b98ee3f-eb23-4685-80dd-ce5ae3fbdc47
DTSTAMP:20260424T053350Z
DESCRIPTION:
DTSTART;TZID=America/Chicago:20240205T150000
DTEND;TZID=America/Chicago:20240205T154500
LOCATION:
SUMMARY:Chess Club
END:VEVENT
END:VCALENDAR
