BEGIN:VCALENDAR
VERSION:2.0
PRODID:-//tandcschool.org//NONSGML kigkonsult.se iCalcreator 2.30.10//
CALSCALE:GREGORIAN
METHOD:PUBLISH
UID:f1fb1eeb-789f-434d-9501-6574529e3087
X-WR-CALDESC:
X-WR-RELCALID:8e02e49d8848444e44cd1e1267a4028a
X-WR-TIMEZONE:America/Chicago
BEGIN:VTIMEZONE
TZID:America/Chicago
BEGIN:STANDARD
TZNAME:CST
DTSTART:20231105T020000
TZOFFSETFROM:-0500
TZOFFSETTO:-0600
RDATE:20241103T020000
END:STANDARD
BEGIN:DAYLIGHT
TZNAME:CDT
DTSTART:20230312T020000
TZOFFSETFROM:-0600
TZOFFSETTO:-0500
RDATE:20240310T020000
RDATE:20250309T020000
END:DAYLIGHT
END:VTIMEZONE
BEGIN:VEVENT
UID:a2aa3f50-b771-48ca-96ad-c1bdd03fa627
DTSTAMP:20260424T071508Z
DESCRIPTION:
DTSTART;TZID=America/Chicago:20240131T150000
DTEND;TZID=America/Chicago:20240131T154500
LOCATION:
SUMMARY:HS Art Club
END:VEVENT
END:VCALENDAR
