BEGIN:VCALENDAR
VERSION:2.0
PRODID:-//tandcschool.org//NONSGML kigkonsult.se iCalcreator 2.30.10//
CALSCALE:GREGORIAN
METHOD:PUBLISH
UID:95c24b26-3eef-46bd-ae26-0d61ea51f45d
X-WR-CALDESC:
X-WR-RELCALID:63991035324a0ea722e6182df93ffeac
X-WR-TIMEZONE:America/Chicago
BEGIN:VTIMEZONE
TZID:America/Chicago
BEGIN:STANDARD
TZNAME:CST
DTSTART:20231105T020000
TZOFFSETFROM:-0500
TZOFFSETTO:-0600
RDATE:20241103T020000
END:STANDARD
BEGIN:DAYLIGHT
TZNAME:CDT
DTSTART:20230312T020000
TZOFFSETFROM:-0600
TZOFFSETTO:-0500
RDATE:20240310T020000
RDATE:20250309T020000
END:DAYLIGHT
END:VTIMEZONE
BEGIN:VEVENT
UID:130492a9-9e56-4f7e-929b-d41fc6c27367
DTSTAMP:20260424T070028Z
DESCRIPTION:
DTSTART;TZID=America/Chicago:20240131T153000
DTEND;TZID=America/Chicago:20240131T164500
LOCATION:
SUMMARY:Cooking Class B
END:VEVENT
END:VCALENDAR
