BEGIN:VCALENDAR
VERSION:2.0
PRODID:-//tandcschool.org//NONSGML kigkonsult.se iCalcreator 2.30.10//
CALSCALE:GREGORIAN
METHOD:PUBLISH
UID:42b950ae-2b11-4bbd-bdf1-da574034de5a
X-WR-CALDESC:
X-WR-RELCALID:e517da3abc379d2bfaebeab9854d36c8
X-WR-TIMEZONE:America/Chicago
BEGIN:VTIMEZONE
TZID:America/Chicago
BEGIN:STANDARD
TZNAME:CST
DTSTART:20231105T020000
TZOFFSETFROM:-0500
TZOFFSETTO:-0600
RDATE:20241103T020000
END:STANDARD
BEGIN:DAYLIGHT
TZNAME:CDT
DTSTART:20230312T020000
TZOFFSETFROM:-0600
TZOFFSETTO:-0500
RDATE:20240310T020000
RDATE:20250309T020000
END:DAYLIGHT
END:VTIMEZONE
BEGIN:VEVENT
UID:72e54af3-0f25-442e-a356-044f8cf0fdc5
DTSTAMP:20260424T071647Z
DESCRIPTION:
DTSTART;TZID=America/Chicago:20240130T152000
DTEND;TZID=America/Chicago:20240130T160000
LOCATION:
SUMMARY:LS Lego Club
END:VEVENT
END:VCALENDAR
