BEGIN:VCALENDAR
VERSION:2.0
PRODID:-//tandcschool.org//NONSGML kigkonsult.se iCalcreator 2.30.10//
CALSCALE:GREGORIAN
METHOD:PUBLISH
UID:790ae0e6-e1bc-43ba-98d5-a5a4cfb577e4
X-WR-CALDESC:
X-WR-RELCALID:a6d123ee19ce74a947ee8e0365bb5641
X-WR-TIMEZONE:America/Chicago
BEGIN:VTIMEZONE
TZID:America/Chicago
BEGIN:STANDARD
TZNAME:CST
DTSTART:20231105T020000
TZOFFSETFROM:-0500
TZOFFSETTO:-0600
RDATE:20241103T020000
END:STANDARD
BEGIN:DAYLIGHT
TZNAME:CDT
DTSTART:20230312T020000
TZOFFSETFROM:-0600
TZOFFSETTO:-0500
RDATE:20240310T020000
RDATE:20250309T020000
END:DAYLIGHT
END:VTIMEZONE
BEGIN:VEVENT
UID:d43021be-2a35-4b38-ae71-f385e9a2d03f
DTSTAMP:20260424T071647Z
DESCRIPTION:
DTSTART;TZID=America/Chicago:20240130T150000
DTEND;TZID=America/Chicago:20240130T154500
LOCATION:
SUMMARY:HS Lego Club
END:VEVENT
END:VCALENDAR
