BEGIN:VCALENDAR
VERSION:2.0
PRODID:-//tandcschool.org//NONSGML kigkonsult.se iCalcreator 2.30.10//
CALSCALE:GREGORIAN
METHOD:PUBLISH
UID:0341e520-c7ce-4606-93bf-958ea57ab420
X-WR-CALDESC:
X-WR-RELCALID:3589d230641831b7af4b029f5de5f8dc
X-WR-TIMEZONE:America/Chicago
BEGIN:VTIMEZONE
TZID:America/Chicago
BEGIN:STANDARD
TZNAME:CST
DTSTART:20231105T020000
TZOFFSETFROM:-0500
TZOFFSETTO:-0600
RDATE:20241103T020000
END:STANDARD
BEGIN:DAYLIGHT
TZNAME:CDT
DTSTART:20230312T020000
TZOFFSETFROM:-0600
TZOFFSETTO:-0500
RDATE:20240310T020000
RDATE:20250309T020000
END:DAYLIGHT
END:VTIMEZONE
BEGIN:VEVENT
UID:13f78d72-13a1-4044-8d70-9b56dd4e83d7
DTSTAMP:20260424T065317Z
DESCRIPTION:
DTSTART;TZID=America/Chicago:20240130T150000
DTEND;TZID=America/Chicago:20240130T164500
LOCATION:
SUMMARY:Basketball Practice
END:VEVENT
END:VCALENDAR
