BEGIN:VCALENDAR
VERSION:2.0
PRODID:-//tandcschool.org//NONSGML kigkonsult.se iCalcreator 2.30.10//
CALSCALE:GREGORIAN
METHOD:PUBLISH
UID:28d840ad-8735-43a9-a624-364f4c671700
X-WR-CALDESC:
X-WR-RELCALID:275760261aa9a15c08cedfac4e40ce02
X-WR-TIMEZONE:America/Chicago
BEGIN:VTIMEZONE
TZID:America/Chicago
BEGIN:STANDARD
TZNAME:CST
DTSTART:20231105T020000
TZOFFSETFROM:-0500
TZOFFSETTO:-0600
RDATE:20241103T020000
END:STANDARD
BEGIN:DAYLIGHT
TZNAME:CDT
DTSTART:20230312T020000
TZOFFSETFROM:-0600
TZOFFSETTO:-0500
RDATE:20240310T020000
RDATE:20250309T020000
END:DAYLIGHT
END:VTIMEZONE
BEGIN:VEVENT
UID:e76fc03f-2228-4358-bcec-d0e9275af6b2
DTSTAMP:20260424T070034Z
DESCRIPTION:
DTSTART;TZID=America/Chicago:20240129T153000
DTEND;TZID=America/Chicago:20240129T164500
LOCATION:
SUMMARY:Cooking Class A
END:VEVENT
END:VCALENDAR
