BEGIN:VCALENDAR
VERSION:2.0
PRODID:-//tandcschool.org//NONSGML kigkonsult.se iCalcreator 2.30.10//
CALSCALE:GREGORIAN
METHOD:PUBLISH
UID:70aebf86-b481-4e91-9dbc-0eeed6f93cf6
X-WR-CALDESC:
X-WR-RELCALID:17c5ae91ff9e3451e77aea778bc8f40c
X-WR-TIMEZONE:America/Chicago
BEGIN:VTIMEZONE
TZID:America/Chicago
BEGIN:STANDARD
TZNAME:CST
DTSTART:20231105T020000
TZOFFSETFROM:-0500
TZOFFSETTO:-0600
RDATE:20241103T020000
END:STANDARD
BEGIN:DAYLIGHT
TZNAME:CDT
DTSTART:20230312T020000
TZOFFSETFROM:-0600
TZOFFSETTO:-0500
RDATE:20240310T020000
RDATE:20250309T020000
END:DAYLIGHT
END:VTIMEZONE
BEGIN:VEVENT
UID:504d9728-c48f-4516-8d09-8f2b87d638d5
DTSTAMP:20260424T071407Z
DESCRIPTION:
DTSTART;TZID=America/Chicago:20240129T150000
DTEND;TZID=America/Chicago:20240129T154500
LOCATION:
SUMMARY:Chess Club
END:VEVENT
END:VCALENDAR
