BEGIN:VCALENDAR
VERSION:2.0
PRODID:-//tandcschool.org//NONSGML kigkonsult.se iCalcreator 2.30.10//
CALSCALE:GREGORIAN
METHOD:PUBLISH
UID:1f62c1c6-c632-43ee-ba45-1417ac9e041b
X-WR-CALDESC:
X-WR-RELCALID:853dbeb01cb0727d74d757486e60a358
X-WR-TIMEZONE:America/Chicago
BEGIN:VTIMEZONE
TZID:America/Chicago
BEGIN:STANDARD
TZNAME:CST
DTSTART:20231105T020000
TZOFFSETFROM:-0500
TZOFFSETTO:-0600
RDATE:20241103T020000
END:STANDARD
BEGIN:DAYLIGHT
TZNAME:CDT
DTSTART:20230312T020000
TZOFFSETFROM:-0600
TZOFFSETTO:-0500
RDATE:20240310T020000
RDATE:20250309T020000
END:DAYLIGHT
END:VTIMEZONE
BEGIN:VEVENT
UID:c9ff8984-65ec-4575-9056-90c4f10a3b56
DTSTAMP:20260424T070137Z
DESCRIPTION:
DTSTART;TZID=America/Chicago:20240126T153000
DTEND;TZID=America/Chicago:20240126T180000
LOCATION:
SUMMARY:Bowling Competition
END:VEVENT
END:VCALENDAR
