BEGIN:VCALENDAR
VERSION:2.0
PRODID:-//tandcschool.org//NONSGML kigkonsult.se iCalcreator 2.30.10//
CALSCALE:GREGORIAN
METHOD:PUBLISH
UID:1079ae1b-0b64-408c-808d-4683759793e9
X-WR-CALDESC:
X-WR-RELCALID:a4c55b382ad4ec57e1f15ffca0b40dc1
X-WR-TIMEZONE:America/Chicago
BEGIN:VTIMEZONE
TZID:America/Chicago
BEGIN:STANDARD
TZNAME:CST
DTSTART:20231105T020000
TZOFFSETFROM:-0500
TZOFFSETTO:-0600
RDATE:20241103T020000
END:STANDARD
BEGIN:DAYLIGHT
TZNAME:CDT
DTSTART:20230312T020000
TZOFFSETFROM:-0600
TZOFFSETTO:-0500
RDATE:20240310T020000
RDATE:20250309T020000
END:DAYLIGHT
END:VTIMEZONE
BEGIN:VEVENT
UID:4477dc99-b052-4e34-bdab-e47a8ead0854
DTSTAMP:20260424T072142Z
DESCRIPTION:
DTSTART;TZID=America/Chicago:20240125T180000
DTEND;TZID=America/Chicago:20240125T193000
LOCATION:Home
SUMMARY:Basketball Varsity Boys vs. Dove 6:00PM to 7:30PM
END:VEVENT
END:VCALENDAR
