BEGIN:VCALENDAR
VERSION:2.0
PRODID:-//tandcschool.org//NONSGML kigkonsult.se iCalcreator 2.30.10//
CALSCALE:GREGORIAN
METHOD:PUBLISH
UID:93ad9c15-b677-4cef-985f-9eb4638fa215
X-WR-CALDESC:
X-WR-RELCALID:a39ca38f968da9906f496d209a5b4fa1
X-WR-TIMEZONE:America/Chicago
BEGIN:VTIMEZONE
TZID:America/Chicago
BEGIN:STANDARD
TZNAME:CST
DTSTART:20231105T020000
TZOFFSETFROM:-0500
TZOFFSETTO:-0600
RDATE:20241103T020000
END:STANDARD
BEGIN:DAYLIGHT
TZNAME:CDT
DTSTART:20230312T020000
TZOFFSETFROM:-0600
TZOFFSETTO:-0500
RDATE:20240310T020000
RDATE:20250309T020000
END:DAYLIGHT
END:VTIMEZONE
BEGIN:VEVENT
UID:53b163f4-de0b-4c8c-8f21-f620331ff492
DTSTAMP:20260424T071935Z
DESCRIPTION:
DTSTART;TZID=America/Chicago:20240125T151500
DTEND;TZID=America/Chicago:20240125T160000
LOCATION:
SUMMARY:Band
END:VEVENT
END:VCALENDAR
