BEGIN:VCALENDAR
VERSION:2.0
PRODID:-//tandcschool.org//NONSGML kigkonsult.se iCalcreator 2.30.10//
CALSCALE:GREGORIAN
METHOD:PUBLISH
UID:a201cc69-b02f-41a6-b40e-49746c7e09f8
X-WR-CALDESC:
X-WR-RELCALID:4f84172c2099c66d4f95972551496a76
X-WR-TIMEZONE:America/Chicago
BEGIN:VTIMEZONE
TZID:America/Chicago
BEGIN:STANDARD
TZNAME:CST
DTSTART:20231105T020000
TZOFFSETFROM:-0500
TZOFFSETTO:-0600
RDATE:20241103T020000
END:STANDARD
BEGIN:DAYLIGHT
TZNAME:CDT
DTSTART:20230312T020000
TZOFFSETFROM:-0600
TZOFFSETTO:-0500
RDATE:20240310T020000
RDATE:20250309T020000
END:DAYLIGHT
END:VTIMEZONE
BEGIN:VEVENT
UID:14990792-3bc0-43e3-b9c8-b35e093a6acc
DTSTAMP:20260424T071901Z
DESCRIPTION:
DTSTART;TZID=America/Chicago:20240124T152000
DTEND;TZID=America/Chicago:20240124T160000
LOCATION:
SUMMARY:Production Club- Wizards
END:VEVENT
END:VCALENDAR
