BEGIN:VCALENDAR
VERSION:2.0
PRODID:-//tandcschool.org//NONSGML kigkonsult.se iCalcreator 2.30.10//
CALSCALE:GREGORIAN
METHOD:PUBLISH
UID:9475a879-b7b3-4288-a601-0fad70e5deef
X-WR-CALDESC:
X-WR-RELCALID:45336aecb6a2e5f1586cd68530f0aec0
X-WR-TIMEZONE:America/Chicago
BEGIN:VTIMEZONE
TZID:America/Chicago
BEGIN:STANDARD
TZNAME:CST
DTSTART:20231105T020000
TZOFFSETFROM:-0500
TZOFFSETTO:-0600
RDATE:20241103T020000
END:STANDARD
BEGIN:DAYLIGHT
TZNAME:CDT
DTSTART:20230312T020000
TZOFFSETFROM:-0600
TZOFFSETTO:-0500
RDATE:20240310T020000
RDATE:20250309T020000
END:DAYLIGHT
END:VTIMEZONE
BEGIN:VEVENT
UID:5c4c39d0-f4ad-4fec-b876-3a4efb167a6c
DTSTAMP:20260424T070504Z
DESCRIPTION:
DTSTART;TZID=America/Chicago:20240123T150000
DTEND;TZID=America/Chicago:20240123T154500
LOCATION:
SUMMARY:MS Lego Club
END:VEVENT
END:VCALENDAR
