BEGIN:VCALENDAR
VERSION:2.0
PRODID:-//tandcschool.org//NONSGML kigkonsult.se iCalcreator 2.30.10//
CALSCALE:GREGORIAN
METHOD:PUBLISH
UID:b7f52ad7-f0e1-4a16-8281-ba2cf044b617
X-WR-CALDESC:
X-WR-RELCALID:5d2e20e00f0293bcce3fe354c05f7cd3
X-WR-TIMEZONE:America/Chicago
BEGIN:VTIMEZONE
TZID:America/Chicago
BEGIN:STANDARD
TZNAME:CST
DTSTART:20231105T020000
TZOFFSETFROM:-0500
TZOFFSETTO:-0600
RDATE:20241103T020000
END:STANDARD
BEGIN:DAYLIGHT
TZNAME:CDT
DTSTART:20230312T020000
TZOFFSETFROM:-0600
TZOFFSETTO:-0500
RDATE:20240310T020000
RDATE:20250309T020000
END:DAYLIGHT
END:VTIMEZONE
BEGIN:VEVENT
UID:e8e5dbe9-9e3b-4b96-a575-19b29ca85b94
DTSTAMP:20260424T071628Z
DESCRIPTION:
DTSTART;TZID=America/Chicago:20240123T152000
DTEND;TZID=America/Chicago:20240123T160000
LOCATION:
SUMMARY:LS Lego Club
END:VEVENT
END:VCALENDAR
