BEGIN:VCALENDAR
VERSION:2.0
PRODID:-//tandcschool.org//NONSGML kigkonsult.se iCalcreator 2.30.10//
CALSCALE:GREGORIAN
METHOD:PUBLISH
UID:a0cf97e6-e0f2-4e08-b912-843dbeb7b1cf
X-WR-CALDESC:
X-WR-RELCALID:0f597678659ae0632a3cf0c2c5ba34e2
X-WR-TIMEZONE:America/Chicago
BEGIN:VTIMEZONE
TZID:America/Chicago
BEGIN:STANDARD
TZNAME:CST
DTSTART:20231105T020000
TZOFFSETFROM:-0500
TZOFFSETTO:-0600
RDATE:20241103T020000
END:STANDARD
BEGIN:DAYLIGHT
TZNAME:CDT
DTSTART:20230312T020000
TZOFFSETFROM:-0600
TZOFFSETTO:-0500
RDATE:20240310T020000
RDATE:20250309T020000
END:DAYLIGHT
END:VTIMEZONE
BEGIN:VEVENT
UID:eba196f2-45ab-406f-85de-bc08112b73f8
DTSTAMP:20260424T065741Z
DESCRIPTION:
DTSTART;TZID=America/Chicago:20240122T050000
DTEND;TZID=America/Chicago:20240122T050001
LOCATION:
SUMMARY:Virtual Learning Day
END:VEVENT
END:VCALENDAR
