BEGIN:VCALENDAR
VERSION:2.0
PRODID:-//tandcschool.org//NONSGML kigkonsult.se iCalcreator 2.30.10//
CALSCALE:GREGORIAN
METHOD:PUBLISH
UID:b1689a22-d4e6-4356-b520-f94dd84f21b7
X-WR-CALDESC:
X-WR-RELCALID:fba20b618c98edb2010fc2dc3206e6c2
X-WR-TIMEZONE:America/Chicago
BEGIN:VTIMEZONE
TZID:America/Chicago
BEGIN:STANDARD
TZNAME:CST
DTSTART:20231105T020000
TZOFFSETFROM:-0500
TZOFFSETTO:-0600
RDATE:20241103T020000
END:STANDARD
BEGIN:DAYLIGHT
TZNAME:CDT
DTSTART:20230312T020000
TZOFFSETFROM:-0600
TZOFFSETTO:-0500
RDATE:20240310T020000
RDATE:20250309T020000
END:DAYLIGHT
END:VTIMEZONE
BEGIN:VEVENT
UID:2d1fc7a3-0d5d-4cea-9bb1-d97883956eab
DTSTAMP:20260424T070206Z
DESCRIPTION:
DTSTART;TZID=America/Chicago:20240118T050000
DTEND;TZID=America/Chicago:20240118T050001
LOCATION:
SUMMARY:No School
END:VEVENT
END:VCALENDAR
