BEGIN:VCALENDAR
VERSION:2.0
PRODID:-//tandcschool.org//NONSGML kigkonsult.se iCalcreator 2.30.10//
CALSCALE:GREGORIAN
METHOD:PUBLISH
UID:43fed0e7-54a7-4f08-a4db-648e13ce7beb
X-WR-CALDESC:No School
X-WR-RELCALID:6b4018d594aed1a69a6474b25dcc4d1e
X-WR-TIMEZONE:America/Chicago
BEGIN:VTIMEZONE
TZID:America/Chicago
BEGIN:STANDARD
TZNAME:CST
DTSTART:20231105T020000
TZOFFSETFROM:-0500
TZOFFSETTO:-0600
RDATE:20241103T020000
END:STANDARD
BEGIN:DAYLIGHT
TZNAME:CDT
DTSTART:20230312T020000
TZOFFSETFROM:-0600
TZOFFSETTO:-0500
RDATE:20240310T020000
RDATE:20250309T020000
END:DAYLIGHT
END:VTIMEZONE
BEGIN:VEVENT
UID:a91720ac-890e-461f-876e-6dca185e9120
DTSTAMP:20260424T071339Z
DESCRIPTION:No School
DTSTART;TZID=America/Chicago:20240116T000000
DTEND;TZID=America/Chicago:20240116T235900
LOCATION:
SUMMARY:Staff Professional Day
END:VEVENT
END:VCALENDAR
