BEGIN:VCALENDAR
VERSION:2.0
PRODID:-//tandcschool.org//NONSGML kigkonsult.se iCalcreator 2.30.10//
CALSCALE:GREGORIAN
METHOD:PUBLISH
UID:644dec78-72ff-42af-99bb-ad472cbc0579
X-WR-CALDESC:No School
X-WR-RELCALID:2aa6c6083dd86ce6c428cf00fae50221
X-WR-TIMEZONE:America/Chicago
BEGIN:VTIMEZONE
TZID:America/Chicago
BEGIN:STANDARD
TZNAME:CST
DTSTART:20231105T020000
TZOFFSETFROM:-0500
TZOFFSETTO:-0600
RDATE:20241103T020000
END:STANDARD
BEGIN:DAYLIGHT
TZNAME:CDT
DTSTART:20230312T020000
TZOFFSETFROM:-0600
TZOFFSETTO:-0500
RDATE:20240310T020000
RDATE:20250309T020000
END:DAYLIGHT
END:VTIMEZONE
BEGIN:VEVENT
UID:091e8e43-b458-4d19-af71-c640c19c50d4
DTSTAMP:20260424T071227Z
DESCRIPTION:No School
DTSTART;TZID=America/Chicago:20240115T000000
DTEND;TZID=America/Chicago:20240115T235900
LOCATION:
SUMMARY:MLK Day
END:VEVENT
END:VCALENDAR
