BEGIN:VCALENDAR
VERSION:2.0
PRODID:-//tandcschool.org//NONSGML kigkonsult.se iCalcreator 2.30.10//
CALSCALE:GREGORIAN
METHOD:PUBLISH
UID:baf19e30-8604-4ce1-a049-8ab3696e88c7
X-WR-CALDESC:
X-WR-RELCALID:3af1d6860e1e6072ba90ca6337231e56
X-WR-TIMEZONE:America/Chicago
BEGIN:VTIMEZONE
TZID:America/Chicago
BEGIN:STANDARD
TZNAME:CST
DTSTART:20231105T020000
TZOFFSETFROM:-0500
TZOFFSETTO:-0600
RDATE:20241103T020000
END:STANDARD
BEGIN:DAYLIGHT
TZNAME:CDT
DTSTART:20230312T020000
TZOFFSETFROM:-0600
TZOFFSETTO:-0500
RDATE:20240310T020000
RDATE:20250309T020000
END:DAYLIGHT
END:VTIMEZONE
BEGIN:VEVENT
UID:50bacb63-7788-44dc-891b-cfe1e4325ba6
DTSTAMP:20260424T072041Z
DESCRIPTION:
DTSTART;TZID=America/Chicago:20240110T152000
DTEND;TZID=America/Chicago:20240110T160000
LOCATION:
SUMMARY:Production Club All
END:VEVENT
END:VCALENDAR
