BEGIN:VCALENDAR
VERSION:2.0
PRODID:-//tandcschool.org//NONSGML kigkonsult.se iCalcreator 2.30.10//
CALSCALE:GREGORIAN
METHOD:PUBLISH
UID:3fb33f12-a0c7-4d90-805e-7b5664f33c24
X-WR-CALDESC:
X-WR-RELCALID:9fcd1b726fb177b969c825e4d47f69a0
X-WR-TIMEZONE:America/Chicago
BEGIN:VTIMEZONE
TZID:America/Chicago
BEGIN:STANDARD
TZNAME:CST
DTSTART:20231105T020000
TZOFFSETFROM:-0500
TZOFFSETTO:-0600
RDATE:20241103T020000
END:STANDARD
BEGIN:DAYLIGHT
TZNAME:CDT
DTSTART:20230312T020000
TZOFFSETFROM:-0600
TZOFFSETTO:-0500
RDATE:20240310T020000
RDATE:20250309T020000
END:DAYLIGHT
END:VTIMEZONE
BEGIN:VEVENT
UID:b8be1a9c-7694-44e5-bbde-17702e328ef0
DTSTAMP:20260424T071621Z
DESCRIPTION:
DTSTART;TZID=America/Chicago:20240110T150000
DTEND;TZID=America/Chicago:20240110T154500
LOCATION:
SUMMARY:MS Art Club
END:VEVENT
END:VCALENDAR
