BEGIN:VCALENDAR
VERSION:2.0
PRODID:-//tandcschool.org//NONSGML kigkonsult.se iCalcreator 2.30.10//
CALSCALE:GREGORIAN
METHOD:PUBLISH
UID:6cddba42-0124-442c-9e85-2cddd7533a21
X-WR-CALDESC:
X-WR-RELCALID:d182f5a3718a24b86cd93dc038f4ad7a
X-WR-TIMEZONE:America/Chicago
BEGIN:VTIMEZONE
TZID:America/Chicago
BEGIN:STANDARD
TZNAME:CST
DTSTART:20231105T020000
TZOFFSETFROM:-0500
TZOFFSETTO:-0600
RDATE:20241103T020000
END:STANDARD
BEGIN:DAYLIGHT
TZNAME:CDT
DTSTART:20230312T020000
TZOFFSETFROM:-0600
TZOFFSETTO:-0500
RDATE:20240310T020000
RDATE:20250309T020000
END:DAYLIGHT
END:VTIMEZONE
BEGIN:VEVENT
UID:cc3ff331-2522-427e-b2dd-71052d7f76e7
DTSTAMP:20260424T071728Z
DESCRIPTION:
DTSTART;TZID=America/Chicago:20240110T000000
DTEND;TZID=America/Chicago:20240110T235900
LOCATION:
SUMMARY:End of 2nd Quarter
END:VEVENT
END:VCALENDAR
