BEGIN:VCALENDAR
VERSION:2.0
PRODID:-//tandcschool.org//NONSGML kigkonsult.se iCalcreator 2.30.10//
CALSCALE:GREGORIAN
METHOD:PUBLISH
UID:19b91628-26d6-4f42-92b5-4cbcabc7dd16
X-WR-CALDESC:
X-WR-RELCALID:a37fe8db30ac7796eee4f5f038b3c6cc
X-WR-TIMEZONE:America/Chicago
BEGIN:VTIMEZONE
TZID:America/Chicago
BEGIN:STANDARD
TZNAME:CST
DTSTART:20231105T020000
TZOFFSETFROM:-0500
TZOFFSETTO:-0600
RDATE:20241103T020000
END:STANDARD
BEGIN:DAYLIGHT
TZNAME:CDT
DTSTART:20230312T020000
TZOFFSETFROM:-0600
TZOFFSETTO:-0500
RDATE:20240310T020000
RDATE:20250309T020000
END:DAYLIGHT
END:VTIMEZONE
BEGIN:VEVENT
UID:5ff6bbe9-6475-4b8c-a040-4163d6bb4e84
DTSTAMP:20260424T071927Z
DESCRIPTION:
DTSTART;TZID=America/Chicago:20240110T000000
DTEND;TZID=America/Chicago:20240110T235900
LOCATION:
SUMMARY:End of 1st Semester
END:VEVENT
END:VCALENDAR
