BEGIN:VCALENDAR
VERSION:2.0
PRODID:-//tandcschool.org//NONSGML kigkonsult.se iCalcreator 2.30.10//
CALSCALE:GREGORIAN
METHOD:PUBLISH
UID:55d19350-e00c-43ce-98cc-a6f70ae97d6c
X-WR-CALDESC:
X-WR-RELCALID:0a31f0d23afe16b12a5dc891dae4791b
X-WR-TIMEZONE:America/Chicago
BEGIN:VTIMEZONE
TZID:America/Chicago
BEGIN:STANDARD
TZNAME:CST
DTSTART:20231105T020000
TZOFFSETFROM:-0500
TZOFFSETTO:-0600
RDATE:20241103T020000
END:STANDARD
BEGIN:DAYLIGHT
TZNAME:CDT
DTSTART:20230312T020000
TZOFFSETFROM:-0600
TZOFFSETTO:-0500
RDATE:20240310T020000
RDATE:20250309T020000
END:DAYLIGHT
END:VTIMEZONE
BEGIN:VEVENT
UID:f015ee03-458c-4333-b088-28db0a49b8b4
DTSTAMP:20260424T070350Z
DESCRIPTION:
DTSTART;TZID=America/Chicago:20240109T152000
DTEND;TZID=America/Chicago:20240109T160000
LOCATION:
SUMMARY:LS Lego Club
END:VEVENT
END:VCALENDAR
