BEGIN:VCALENDAR
VERSION:2.0
PRODID:-//tandcschool.org//NONSGML kigkonsult.se iCalcreator 2.30.10//
CALSCALE:GREGORIAN
METHOD:PUBLISH
UID:477e6cdd-7fe4-4fe3-a931-1580a250bec9
X-WR-CALDESC:
X-WR-RELCALID:4fd5f6977eeae0aa0509d8fbbb8b7181
X-WR-TIMEZONE:America/Chicago
BEGIN:VTIMEZONE
TZID:America/Chicago
BEGIN:STANDARD
TZNAME:CST
DTSTART:20231105T020000
TZOFFSETFROM:-0500
TZOFFSETTO:-0600
RDATE:20241103T020000
END:STANDARD
BEGIN:DAYLIGHT
TZNAME:CDT
DTSTART:20230312T020000
TZOFFSETFROM:-0600
TZOFFSETTO:-0500
RDATE:20240310T020000
RDATE:20250309T020000
END:DAYLIGHT
END:VTIMEZONE
BEGIN:VEVENT
UID:d985006f-669f-4903-98a1-fffec63a4987
DTSTAMP:20260424T071244Z
DESCRIPTION:
DTSTART;TZID=America/Chicago:20240109T150000
DTEND;TZID=America/Chicago:20240109T163000
LOCATION:
SUMMARY:Basketball Practice
END:VEVENT
END:VCALENDAR
