BEGIN:VCALENDAR
VERSION:2.0
PRODID:-//tandcschool.org//NONSGML kigkonsult.se iCalcreator 2.30.10//
CALSCALE:GREGORIAN
METHOD:PUBLISH
UID:daa9d093-9a3f-444c-bf8d-e2fc79470a28
X-WR-CALDESC:
X-WR-RELCALID:7df3d72e2332c3e094e92fc75af0f033
X-WR-TIMEZONE:America/Chicago
BEGIN:VTIMEZONE
TZID:America/Chicago
BEGIN:STANDARD
TZNAME:CST
DTSTART:20231105T020000
TZOFFSETFROM:-0500
TZOFFSETTO:-0600
RDATE:20241103T020000
END:STANDARD
BEGIN:DAYLIGHT
TZNAME:CDT
DTSTART:20230312T020000
TZOFFSETFROM:-0600
TZOFFSETTO:-0500
RDATE:20240310T020000
RDATE:20250309T020000
END:DAYLIGHT
END:VTIMEZONE
BEGIN:VEVENT
UID:fde21a74-fa81-4961-80c7-eee573cfb8c8
DTSTAMP:20260424T071355Z
DESCRIPTION:
DTSTART;TZID=America/Chicago:20240108T152000
DTEND;TZID=America/Chicago:20240108T160000
LOCATION:
SUMMARY:LS Art Club
END:VEVENT
END:VCALENDAR
