BEGIN:VCALENDAR
VERSION:2.0
PRODID:-//tandcschool.org//NONSGML kigkonsult.se iCalcreator 2.30.10//
CALSCALE:GREGORIAN
METHOD:PUBLISH
UID:5f2f5e50-befa-482d-a593-e037a6a484b7
X-WR-CALDESC:
X-WR-RELCALID:6d0d2eefac8a9568a0d0e7e8e41beacf
X-WR-TIMEZONE:America/Chicago
BEGIN:VTIMEZONE
TZID:America/Chicago
BEGIN:STANDARD
TZNAME:CST
DTSTART:20231105T020000
TZOFFSETFROM:-0500
TZOFFSETTO:-0600
RDATE:20241103T020000
END:STANDARD
BEGIN:DAYLIGHT
TZNAME:CDT
DTSTART:20230312T020000
TZOFFSETFROM:-0600
TZOFFSETTO:-0500
RDATE:20240310T020000
RDATE:20250309T020000
END:DAYLIGHT
END:VTIMEZONE
BEGIN:VEVENT
UID:22a42f63-66d4-4bef-babd-35f5bfbfd21f
DTSTAMP:20260424T071244Z
DESCRIPTION:
DTSTART;TZID=America/Chicago:20240108T150000
DTEND;TZID=America/Chicago:20240108T154500
LOCATION:
SUMMARY:Chess Club
END:VEVENT
END:VCALENDAR
