BEGIN:VCALENDAR
VERSION:2.0
PRODID:-//tandcschool.org//NONSGML kigkonsult.se iCalcreator 2.30.10//
CALSCALE:GREGORIAN
METHOD:PUBLISH
UID:009eb435-16f6-4fbd-a56a-16314a25af84
X-WR-CALDESC:
X-WR-RELCALID:e13435e146ad1e9cf23cab0662eecf80
X-WR-TIMEZONE:America/Chicago
BEGIN:VTIMEZONE
TZID:America/Chicago
BEGIN:STANDARD
TZNAME:CST
DTSTART:20231105T020000
TZOFFSETFROM:-0500
TZOFFSETTO:-0600
RDATE:20241103T020000
END:STANDARD
BEGIN:DAYLIGHT
TZNAME:CDT
DTSTART:20230312T020000
TZOFFSETFROM:-0600
TZOFFSETTO:-0500
RDATE:20240310T020000
RDATE:20250309T020000
END:DAYLIGHT
END:VTIMEZONE
BEGIN:VEVENT
UID:32916f55-d917-48ef-a20f-b5520bc08eb9
DTSTAMP:20260424T070035Z
DESCRIPTION:
DTSTART;TZID=America/Chicago:20240108T150000
DTEND;TZID=America/Chicago:20240108T160000
LOCATION:
SUMMARY:Cheer
END:VEVENT
END:VCALENDAR
