BEGIN:VCALENDAR
VERSION:2.0
PRODID:-//tandcschool.org//NONSGML kigkonsult.se iCalcreator 2.30.10//
CALSCALE:GREGORIAN
METHOD:PUBLISH
UID:b7ae89c3-0119-4264-8eaa-b4d0c0eda419
X-WR-CALDESC:
X-WR-RELCALID:54d5f40e013735b66459ddbb02a6c0d6
X-WR-TIMEZONE:America/Chicago
BEGIN:VTIMEZONE
TZID:America/Chicago
BEGIN:STANDARD
TZNAME:CST
DTSTART:20231105T020000
TZOFFSETFROM:-0500
TZOFFSETTO:-0600
RDATE:20241103T020000
END:STANDARD
BEGIN:DAYLIGHT
TZNAME:CDT
DTSTART:20230312T020000
TZOFFSETFROM:-0600
TZOFFSETTO:-0500
RDATE:20240310T020000
RDATE:20250309T020000
END:DAYLIGHT
END:VTIMEZONE
BEGIN:VEVENT
UID:447addf9-4431-4506-8768-ae87a1a39c74
DTSTAMP:20260424T071201Z
DESCRIPTION:
DTSTART;TZID=America/Chicago:20240108T180000
DTEND;TZID=America/Chicago:20240108T200000
LOCATION:Patio on the Hill/Wagoner
SUMMARY:Bingo Night
END:VEVENT
END:VCALENDAR
