BEGIN:VCALENDAR
VERSION:2.0
PRODID:-//tandcschool.org//NONSGML kigkonsult.se iCalcreator 2.30.10//
CALSCALE:GREGORIAN
METHOD:PUBLISH
UID:1b8e64f7-7dd5-46b5-8cf9-a336923daf74
X-WR-CALDESC:Brotherhood: Collecting items for the Emergency Infant Service
 s
X-WR-RELCALID:dc0c6a239da62bee81ed464e96800e67
X-WR-TIMEZONE:America/Chicago
BEGIN:VTIMEZONE
TZID:America/Chicago
BEGIN:STANDARD
TZNAME:CST
DTSTART:20231105T020000
TZOFFSETFROM:-0500
TZOFFSETTO:-0600
RDATE:20241103T020000
END:STANDARD
BEGIN:DAYLIGHT
TZNAME:CDT
DTSTART:20230312T020000
TZOFFSETFROM:-0600
TZOFFSETTO:-0500
RDATE:20240310T020000
RDATE:20250309T020000
END:DAYLIGHT
END:VTIMEZONE
BEGIN:VEVENT
UID:bcb64f18-247a-4c67-b1f7-0c6c64925c0b
DTSTAMP:20260424T072204Z
DESCRIPTION:Brotherhood: Collecting items for the Emergency Infant Services
DTSTART;TZID=America/Chicago:20240107T050000
DTEND;TZID=America/Chicago:20240107T050001
LOCATION:
SUMMARY:8 Habits of the Heart
END:VEVENT
END:VCALENDAR
