BEGIN:VCALENDAR
VERSION:2.0
PRODID:-//tandcschool.org//NONSGML kigkonsult.se iCalcreator 2.30.10//
CALSCALE:GREGORIAN
METHOD:PUBLISH
UID:871966ac-69d3-4e86-9f0b-eb9b885208a2
X-WR-CALDESC:
X-WR-RELCALID:ddfbd2db89533318bc31fc61a7dac4c8
X-WR-TIMEZONE:America/Chicago
BEGIN:VTIMEZONE
TZID:America/Chicago
BEGIN:STANDARD
TZNAME:CST
DTSTART:20231105T020000
TZOFFSETFROM:-0500
TZOFFSETTO:-0600
RDATE:20241103T020000
END:STANDARD
BEGIN:DAYLIGHT
TZNAME:CDT
DTSTART:20230312T020000
TZOFFSETFROM:-0600
TZOFFSETTO:-0500
RDATE:20240310T020000
RDATE:20250309T020000
END:DAYLIGHT
END:VTIMEZONE
BEGIN:VEVENT
UID:3fe3951d-058d-4877-8542-23cc338a41cd
DTSTAMP:20260424T065834Z
DESCRIPTION:
DTSTART;TZID=America/Chicago:20240105T150000
DTEND;TZID=America/Chicago:20240105T154500
LOCATION:
SUMMARY:NHS
END:VEVENT
END:VCALENDAR
