BEGIN:VCALENDAR
VERSION:2.0
PRODID:-//tandcschool.org//NONSGML kigkonsult.se iCalcreator 2.30.10//
CALSCALE:GREGORIAN
METHOD:PUBLISH
UID:08655130-cb63-404c-bda0-0966a23ef7d5
X-WR-CALDESC:
X-WR-RELCALID:829da6f379e007fb07781cc5cbc92520
X-WR-TIMEZONE:America/Chicago
BEGIN:VTIMEZONE
TZID:America/Chicago
BEGIN:STANDARD
TZNAME:CST
DTSTART:20231105T020000
TZOFFSETFROM:-0500
TZOFFSETTO:-0600
RDATE:20241103T020000
END:STANDARD
BEGIN:DAYLIGHT
TZNAME:CDT
DTSTART:20230312T020000
TZOFFSETFROM:-0600
TZOFFSETTO:-0500
RDATE:20240310T020000
RDATE:20250309T020000
END:DAYLIGHT
END:VTIMEZONE
BEGIN:VEVENT
UID:3095ee66-04f0-4571-a351-700e39743047
DTSTAMP:20260424T065142Z
DESCRIPTION:
DTSTART;TZID=America/Chicago:20240104T000000
DTEND;TZID=America/Chicago:20240104T235900
LOCATION:
SUMMARY:Students Return
END:VEVENT
END:VCALENDAR
