BEGIN:VCALENDAR
VERSION:2.0
PRODID:-//tandcschool.org//NONSGML kigkonsult.se iCalcreator 2.30.10//
CALSCALE:GREGORIAN
METHOD:PUBLISH
UID:c687f570-6637-452a-af00-daa5138cdadd
X-WR-CALDESC:
X-WR-RELCALID:99c2da5479ef7ac63af37144f221fe08
X-WR-TIMEZONE:America/Chicago
BEGIN:VTIMEZONE
TZID:America/Chicago
BEGIN:STANDARD
TZNAME:CST
DTSTART:20231105T020000
TZOFFSETFROM:-0500
TZOFFSETTO:-0600
RDATE:20241103T020000
END:STANDARD
BEGIN:DAYLIGHT
TZNAME:CDT
DTSTART:20230312T020000
TZOFFSETFROM:-0600
TZOFFSETTO:-0500
RDATE:20240310T020000
RDATE:20250309T020000
END:DAYLIGHT
END:VTIMEZONE
BEGIN:VEVENT
UID:fe577eb5-da5d-4ddd-9aa7-960250b4a363
DTSTAMP:20260424T071202Z
DESCRIPTION:
DTSTART;TZID=America/Chicago:20240104T150000
DTEND;TZID=America/Chicago:20240104T163000
LOCATION:
SUMMARY:Basketball Practice
END:VEVENT
END:VCALENDAR
