BEGIN:VCALENDAR
VERSION:2.0
PRODID:-//tandcschool.org//NONSGML kigkonsult.se iCalcreator 2.30.10//
CALSCALE:GREGORIAN
METHOD:PUBLISH
UID:08cc959e-88f3-473b-95d6-c9fc7b7acb92
X-WR-CALDESC:
X-WR-RELCALID:e390e8dfcc43153a8aa83afd437e4e10
X-WR-TIMEZONE:America/Chicago
BEGIN:VTIMEZONE
TZID:America/Chicago
BEGIN:STANDARD
TZNAME:CST
DTSTART:20231105T020000
TZOFFSETFROM:-0500
TZOFFSETTO:-0600
RDATE:20241103T020000
END:STANDARD
BEGIN:DAYLIGHT
TZNAME:CDT
DTSTART:20230312T020000
TZOFFSETFROM:-0600
TZOFFSETTO:-0500
RDATE:20240310T020000
RDATE:20250309T020000
END:DAYLIGHT
END:VTIMEZONE
BEGIN:VEVENT
UID:8706a74c-bfb8-4638-a12a-98b2d975bef3
DTSTAMP:20260424T065250Z
DESCRIPTION:
DTSTART;TZID=America/Chicago:20240103T000000
DTEND;TZID=America/Chicago:20240103T235900
LOCATION:
SUMMARY:Staff Return
END:VEVENT
END:VCALENDAR
