BEGIN:VCALENDAR
VERSION:2.0
PRODID:-//tandcschool.org//NONSGML kigkonsult.se iCalcreator 2.30.10//
CALSCALE:GREGORIAN
METHOD:PUBLISH
UID:7d3d1e89-78bf-4a15-8c01-ae8cb81e6a4d
X-WR-CALDESC:
X-WR-RELCALID:844d5db7e4a676d8a14f1bf05ab9bd96
X-WR-TIMEZONE:America/Chicago
BEGIN:VTIMEZONE
TZID:America/Chicago
BEGIN:STANDARD
TZNAME:CST
DTSTART:20231105T020000
TZOFFSETFROM:-0500
TZOFFSETTO:-0600
RDATE:20241103T020000
END:STANDARD
BEGIN:DAYLIGHT
TZNAME:CDT
DTSTART:20230312T020000
TZOFFSETFROM:-0600
TZOFFSETTO:-0500
RDATE:20240310T020000
RDATE:20250309T020000
END:DAYLIGHT
END:VTIMEZONE
BEGIN:VEVENT
UID:73983d16-08cc-4077-bd1d-6d4610533d1e
DTSTAMP:20260424T083634Z
DESCRIPTION:
DTSTART;TZID=America/Chicago:20231220T050000
DTEND;TZID=America/Chicago:20231220T050001
LOCATION:
SUMMARY:LS Holiday Parties
END:VEVENT
END:VCALENDAR
