BEGIN:VCALENDAR
VERSION:2.0
PRODID:-//tandcschool.org//NONSGML kigkonsult.se iCalcreator 2.30.10//
CALSCALE:GREGORIAN
METHOD:PUBLISH
UID:5148f623-f9e2-4c1f-9b27-9507117467c6
X-WR-CALDESC:LS dismissed at 12:00pm\nUS dismissed at 12:25pm\nNo Aftercare
X-WR-RELCALID:b487638ccd1930345ae7bc9fa44b2b78
X-WR-TIMEZONE:America/Chicago
BEGIN:VTIMEZONE
TZID:America/Chicago
BEGIN:STANDARD
TZNAME:CST
DTSTART:20231105T020000
TZOFFSETFROM:-0500
TZOFFSETTO:-0600
RDATE:20241103T020000
END:STANDARD
BEGIN:DAYLIGHT
TZNAME:CDT
DTSTART:20230312T020000
TZOFFSETFROM:-0600
TZOFFSETTO:-0500
RDATE:20240310T020000
RDATE:20250309T020000
END:DAYLIGHT
END:VTIMEZONE
BEGIN:VEVENT
UID:b37d8a0d-fd91-4159-97ea-41d7aef06fa2
DTSTAMP:20260424T083119Z
DESCRIPTION:LS dismissed at 12:00pm\nUS dismissed at 12:25pm\nNo Aftercare
DTSTART;TZID=America/Chicago:20231220T050000
DTEND;TZID=America/Chicago:20231220T050001
LOCATION:
SUMMARY:Half Day
END:VEVENT
END:VCALENDAR
